BEGIN:VCALENDAR
VERSION:2.0
PRODID:-//Delaware Valley HIMSS - ECPv6.15.20//NONSGML v1.0//EN
CALSCALE:GREGORIAN
METHOD:PUBLISH
X-WR-CALNAME:Delaware Valley HIMSS
X-ORIGINAL-URL:https://dvhimss.org
X-WR-CALDESC:Events for Delaware Valley HIMSS
REFRESH-INTERVAL;VALUE=DURATION:PT1H
X-Robots-Tag:noindex
X-PUBLISHED-TTL:PT1H
BEGIN:VTIMEZONE
TZID:America/New_York
BEGIN:DAYLIGHT
TZOFFSETFROM:-0500
TZOFFSETTO:-0400
TZNAME:EDT
DTSTART:20230312T070000
END:DAYLIGHT
BEGIN:STANDARD
TZOFFSETFROM:-0400
TZOFFSETTO:-0500
TZNAME:EST
DTSTART:20231105T060000
END:STANDARD
BEGIN:DAYLIGHT
TZOFFSETFROM:-0500
TZOFFSETTO:-0400
TZNAME:EDT
DTSTART:20240310T070000
END:DAYLIGHT
BEGIN:STANDARD
TZOFFSETFROM:-0400
TZOFFSETTO:-0500
TZNAME:EST
DTSTART:20241103T060000
END:STANDARD
BEGIN:DAYLIGHT
TZOFFSETFROM:-0500
TZOFFSETTO:-0400
TZNAME:EDT
DTSTART:20250309T070000
END:DAYLIGHT
BEGIN:STANDARD
TZOFFSETFROM:-0400
TZOFFSETTO:-0500
TZNAME:EST
DTSTART:20251102T060000
END:STANDARD
END:VTIMEZONE
BEGIN:VEVENT
DTSTART;TZID=America/New_York:20241212T170000
DTEND;TZID=America/New_York:20241212T193000
DTSTAMP:20260420T231430
CREATED:20241005T171752Z
LAST-MODIFIED:20241025T150228Z
UID:21901-1734022800-1734031800@dvhimss.org
SUMMARY:DVHIMSS Winter Networking Event at Topgolf
DESCRIPTION:[vc_row][vc_column][vc_single_image image=”21910″ img_size=”640×360″ alignment=”center” css=””][vc_column_text css=””] \nJoin us for an exciting evening of networking\, fun\, and golf at the DVHIMSS Winter/Holiday Event at Topgolf in King of Prussia! This event is the perfect opportunity to connect with fellow healthcare IT professionals\, share insights\, and build valuable relationships in a relaxed and enjoyable setting.\nEvent Highlights: \n\nNetworking Opportunities: Meet and mingle with industry peers\, leaders\, and innovators.\nGolfing Fun: Enjoy a few rounds of golf in Topgolf’s state-of-the-art facilities.\nRefreshments: Enjoy delicious food and beverages while you network and play.\nPrizes and Giveaways: Participate in fun activities and stand a chance to win exciting prizes.\n\nDate and Time: Thursday December 12th 5:00pm to 7:30pm \nCost: $35 for members\, $45 for non-members \nRefund Policy: Click here.[/vc_column_text][/vc_column][/vc_row][vc_row][vc_column][/vc_column][/vc_row][vc_row][vc_column][/vc_column][/vc_row]
URL:https://dvhimss.org/events-calendar/dvhimss-winter-networking-event-at-topgolf/
LOCATION:Topgolf King of Prussia\, 588 N Gulph Rd\, King of Prussia\, PA\, United States
END:VEVENT
END:VCALENDAR