BEGIN:VCALENDAR
VERSION:2.0
PRODID:-//Delaware Valley HIMSS - ECPv6.15.20//NONSGML v1.0//EN
CALSCALE:GREGORIAN
METHOD:PUBLISH
X-WR-CALNAME:Delaware Valley HIMSS
X-ORIGINAL-URL:https://dvhimss.org
X-WR-CALDESC:Events for Delaware Valley HIMSS
REFRESH-INTERVAL;VALUE=DURATION:PT1H
X-Robots-Tag:noindex
X-PUBLISHED-TTL:PT1H
BEGIN:VTIMEZONE
TZID:America/New_York
BEGIN:DAYLIGHT
TZOFFSETFROM:-0500
TZOFFSETTO:-0400
TZNAME:EDT
DTSTART:20230312T070000
END:DAYLIGHT
BEGIN:STANDARD
TZOFFSETFROM:-0400
TZOFFSETTO:-0500
TZNAME:EST
DTSTART:20231105T060000
END:STANDARD
BEGIN:DAYLIGHT
TZOFFSETFROM:-0500
TZOFFSETTO:-0400
TZNAME:EDT
DTSTART:20240310T070000
END:DAYLIGHT
BEGIN:STANDARD
TZOFFSETFROM:-0400
TZOFFSETTO:-0500
TZNAME:EST
DTSTART:20241103T060000
END:STANDARD
BEGIN:DAYLIGHT
TZOFFSETFROM:-0500
TZOFFSETTO:-0400
TZNAME:EDT
DTSTART:20250309T070000
END:DAYLIGHT
BEGIN:STANDARD
TZOFFSETFROM:-0400
TZOFFSETTO:-0500
TZNAME:EST
DTSTART:20251102T060000
END:STANDARD
END:VTIMEZONE
BEGIN:VEVENT
DTSTART;TZID=America/New_York:20240304T110000
DTEND;TZID=America/New_York:20240715T130000
DTSTAMP:20260421T065652
CREATED:20241101T165329Z
LAST-MODIFIED:20250213T212517Z
UID:21956-1709550000-1721048400@dvhimss.org
SUMMARY:Luncheon at HIMSS National
DESCRIPTION:Join us for our Luncheon at HIMSS National in Las Vegas with local peer chapters\, March 4th 2025
URL:https://dvhimss.org/events-calendar/luncheon-at-himss-national/
LOCATION:PA
CATEGORIES:Past Events
END:VEVENT
BEGIN:VEVENT
DTSTART;TZID=America/New_York:20240516T073000
DTEND;TZID=America/New_York:20240516T170000
DTSTAMP:20260421T065652
CREATED:20240225T175643Z
LAST-MODIFIED:20240522T003230Z
UID:21398-1715844600-1715878800@dvhimss.org
SUMMARY:2024 Spring Symposium
DESCRIPTION:[vc_row][vc_column]Healthcare IT in 2024 | A State of the Union \nThursday\, May 16th 7:30am to 5:00pm\n[/vc_column][/vc_row][vc_row][vc_column][vc_column_text]We are living in one of the most dynamic\, exciting\, challenging and pivotal time periods for our healthcare ecosystem. The pace of change – digitally\, operationally and financially – is unrivaled and the opportunities and obstacles ahead for health systems nationally are vast. Join us for an incredible one day educational and networking opportunity at our annual DVHIMSS Spring Symposium. Inclusive of engaging keynotes\, enlightening educational track sessions\, a thought provoking panel discussion and tremendous professional networking opportunities\, we will explore topics such as the current financial state and challenges facing providers and IT leaders\, the state of the workforce\, rapid technology expansion\, internal and external threats\, pathways to growth and organizational success\, and the critical role Digital and Technology leaders play in forging the path ahead.[/vc_column_text][/vc_column][/vc_row][vc_row][vc_column][vc_btn title=”Sponsorship Opportunities” style=”classic” color=”green” size=”lg” align=”center” css=”” link=”url:https%3A%2F%2Fdvhimss.org%2Fspring-symposium-sponsorship-opportunities%2F|title:Spring%20Symposium%202024%20Sponsor”][/vc_column][/vc_row][vc_row][vc_column][vc_row_inner][vc_column_inner][vc_separator color=”blue” border_width=”3″][/vc_column_inner][/vc_row_inner][vc_row_inner][vc_column_inner][vc_column_text] \nHear from a wide variety of Healthcare Industry providers\, vendors and solution experts.\n[/vc_column_text][/vc_column_inner][/vc_row_inner][/vc_column][/vc_row][vc_row][vc_column width=”1/3″][vc_btn title=”Keynote Speakers” style=”classic” color=”green” size=”lg” align=”center” link=”url:https%3A%2F%2Fdvhimss.org%2F2024-spring-symposium-keynote-speakers%2F|title:Spring%20Symposium%202024%20Keynote%20Speakers|target:_blank”][/vc_column][vc_column width=”1/3″][vc_btn title=”Presenters” style=”classic” color=”green” size=”lg” align=”center” link=”url:https%3A%2F%2Fdvhimss.org%2F2024-spring-symposium-presenters%2F|title:Spring%20Symposium%202024%20Presenters”][/vc_column][vc_column width=”1/3″][vc_btn title=”Event Agenda” style=”classic” color=”green” size=”lg” align=”center” link=”url:https%3A%2F%2Fdvhimss.org%2Fspring-symposium-2024%2F%23agenda|title:Spring%20Symposium%202024%20Agenda”][/vc_column][/vc_row][vc_row][vc_column][vc_row_inner][vc_column_inner][vc_separator color=”blue” border_width=”3″][/vc_column_inner][/vc_row_inner][/vc_column][/vc_row][vc_row][vc_column width=”1/2″][vc_column_text]Hotel Information\nHilton Philadelphia City Avenue\, 4200 City Avenue Philadelphia\, PA 19131 \nParking: Parking at the Hilton’s Self Park lot is $10 for 10 hours.The lot is located on Stout Road\, across the street from the Hilton and Homewood Suites\, next to the reservoir.[/vc_column_text][/vc_column][vc_column width=”1/2″][vc_gmaps link=”#E-8_JTNDaWZyYW1lJTIwc3JjJTNEJTIyaHR0cHMlM0ElMkYlMkZ3d3cuZ29vZ2xlLmNvbSUyRm1hcHMlMkZlbWJlZCUzRnBiJTNEJTIxMW0xMCUyMTFtOCUyMTFtMyUyMTFkMTIyMjQuNzM0NDU2MjM3MzA1JTIxMmQtNzUuMjE4NTQlMjEzZDQwLjAwNDM0NiUyMTNtMiUyMTFpMTAyNCUyMTJpNzY4JTIxNGYxMy4xJTIxNWUwJTIxM20yJTIxMXNlbiUyMTJzdXMlMjE0djE3MDg4ODE0NzI0MTIlMjE1bTIlMjExc2VuJTIxMnN1cyUyMiUyMHdpZHRoJTNEJTIyNjAwJTIyJTIwaGVpZ2h0JTNEJTIyNDUwJTIyJTIwc3R5bGUlM0QlMjJib3JkZXIlM0EwJTNCJTIyJTIwYWxsb3dmdWxsc2NyZWVuJTNEJTIyJTIyJTIwbG9hZGluZyUzRCUyMmxhenklMjIlMjByZWZlcnJlcnBvbGljeSUzRCUyMm5vLXJlZmVycmVyLXdoZW4tZG93bmdyYWRlJTIyJTNFJTNDJTJGaWZyYW1lJTNF”][/vc_column][/vc_row]
URL:https://dvhimss.org/events-calendar/2024-spring-symposium/
LOCATION:Hilton Philadelphia City Avenue\, 4200 City Avenue\, Philadelphia\, PA\, 19131\, United States
CATEGORIES:Past Events
ATTACH;FMTTYPE=image/png:https://dvhimss.org/wp-content/uploads/2024/02/022024_DVHIMSS-Spring-Symposium-Banner.png
END:VEVENT
END:VCALENDAR