BEGIN:VCALENDAR
VERSION:2.0
PRODID:-//Delaware Valley HIMSS - ECPv6.15.20//NONSGML v1.0//EN
CALSCALE:GREGORIAN
METHOD:PUBLISH
X-WR-CALNAME:Delaware Valley HIMSS
X-ORIGINAL-URL:https://dvhimss.org
X-WR-CALDESC:Events for Delaware Valley HIMSS
REFRESH-INTERVAL;VALUE=DURATION:PT1H
X-Robots-Tag:noindex
X-PUBLISHED-TTL:PT1H
BEGIN:VTIMEZONE
TZID:America/New_York
BEGIN:DAYLIGHT
TZOFFSETFROM:-0500
TZOFFSETTO:-0400
TZNAME:EDT
DTSTART:20220313T070000
END:DAYLIGHT
BEGIN:STANDARD
TZOFFSETFROM:-0400
TZOFFSETTO:-0500
TZNAME:EST
DTSTART:20221106T060000
END:STANDARD
BEGIN:DAYLIGHT
TZOFFSETFROM:-0500
TZOFFSETTO:-0400
TZNAME:EDT
DTSTART:20230312T070000
END:DAYLIGHT
BEGIN:STANDARD
TZOFFSETFROM:-0400
TZOFFSETTO:-0500
TZNAME:EST
DTSTART:20231105T060000
END:STANDARD
BEGIN:DAYLIGHT
TZOFFSETFROM:-0500
TZOFFSETTO:-0400
TZNAME:EDT
DTSTART:20240310T070000
END:DAYLIGHT
BEGIN:STANDARD
TZOFFSETFROM:-0400
TZOFFSETTO:-0500
TZNAME:EST
DTSTART:20241103T060000
END:STANDARD
BEGIN:DAYLIGHT
TZOFFSETFROM:-0500
TZOFFSETTO:-0400
TZNAME:EDT
DTSTART:20250309T070000
END:DAYLIGHT
BEGIN:STANDARD
TZOFFSETFROM:-0400
TZOFFSETTO:-0500
TZNAME:EST
DTSTART:20251102T060000
END:STANDARD
END:VTIMEZONE
BEGIN:VEVENT
DTSTART;TZID=America/New_York:20240312T110000
DTEND;TZID=America/New_York:20240312T130000
DTSTAMP:20260421T110604
CREATED:20240204T224614Z
LAST-MODIFIED:20240204T230020Z
UID:21291-1710241200-1710248400@dvhimss.org
SUMMARY:HIMSS 24 Chapter Network Lunch
DESCRIPTION:[vc_row][vc_column][vc_column_text] \n\nPlease join us to connect with other Delaware Valley chapter members during HIMSS24.\n\n\nThe New Jersey\, New York\, and Delaware Valley Chapters have teamed up to host a spectacular networking event at HIMSS24. Take a break from the madness in Orlando and join your local colleagues for lunch! \nWe’ll enjoy a delicious lunch (full menu\, dessert\, and beverages) and network with members from three HIMSS Chapters. \nSeating is limited\, so please register and confirm your seat at this luncheon! \n\n\nDate: Tuesday\, March 12\, 2024 \nTime: 11:00a – 1:00p \nPrice (net proceeds will be donated to regional charity): $15.00 \nLocation: Rosen Centre Hotel | ROOM: Ballroom D \nAddress: 9840 International Drive\, Orlando\, FL 32819 \nPlease note: \n\nThis event is limited to HIMSS Conference attendees.\nRegistration is required to attend the event.\nRegistration will close on March 5\, 2024\, at 5:00 PM EST.\n\n\n\n\n[/vc_column_text][/vc_column][/vc_row][vc_row][vc_column][vc_btn title=”REGISTER NOW!” style=”classic” color=”warning” size=”lg” align=”center” css_animation=”fadeInUpBig” link=”url:https%3A%2F%2Fwww.eventbrite.com%2Fe%2Fhimss24-chapter-networking-lunch-tickets-811071826667%3Faff%3Doddtdtcreator|target:_blank”][/vc_column][/vc_row]
URL:https://dvhimss.org/events-calendar/himss-24-chapter-network-lunch/
LOCATION:Rosen Centre Hotel | ROOM: Ballroom D\, 9840 International Drive\, Orlando\, FL\, 32819\, United States
CATEGORIES:Upcoming Events
ATTACH;FMTTYPE=image/png:https://dvhimss.org/wp-content/uploads/2024/02/012024_HIMSS24-Luncheon_Banner.png
END:VEVENT
BEGIN:VEVENT
DTSTART;TZID=America/New_York:20240222T180000
DTEND;TZID=America/New_York:20240222T210000
DTSTAMP:20260421T110604
CREATED:20240125T212941Z
LAST-MODIFIED:20250213T212501Z
UID:21176-1708624800-1708635600@dvhimss.org
SUMMARY:Organizational Affiliate Networking
DESCRIPTION:[vc_row][vc_column][vc_column_text]In recognition of our DV HIMSS Organizational Affiliate members\, we are holding an appreciation event in your honor! Thank you for being a member of the Delaware Valley HIMSS Chapter. Please join us for an evening of networking and prizes! This event is for you and a guest and the chance to win several prizes from the Delaware Valley Sponsors. \n[/vc_column_text][/vc_column][/vc_row][vc_row][vc_column][vc_empty_space]Register Now[vc_column_text]Additionally\, DVHIMSS will be accepting donations at the event for the Home of the Sparrow\, an organization in West Chester\, PA\, that partners with women facing homelessness to secure housing\, achieve long-term stability\, and chart new paths for their futures. \nAll donations will be matched on a 1:1 basis by DVHIMSS.  See details below for event time and location.[/vc_column_text][/vc_column][/vc_row]
URL:https://dvhimss.org/events-calendar/organizational-affiliate-networking/
LOCATION:Landmark Americana\, 3333 Market Street\, Philadelphia\, PA\, 19104\, United States
CATEGORIES:Past Events
ATTACH;FMTTYPE=image/jpeg:https://dvhimss.org/wp-content/uploads/2024/01/Event-Feb-OA.jpg
END:VEVENT
BEGIN:VEVENT
DTSTART;TZID=America/New_York:20231214T170000
DTEND;TZID=America/New_York:20231214T193000
DTSTAMP:20260421T110604
CREATED:20231205T024309Z
LAST-MODIFIED:20240429T133707Z
UID:20932-1702573200-1702582200@dvhimss.org
SUMMARY:Topgolf Holiday Networking Event
DESCRIPTION:DVHIMSS will host a winter/holiday networking event at Topgolf in King of Prussia\, PA. This will be a phenomenal opportunity to join industry peers and colleagues in a great evening of professional networking\, golf\, and plenty of food and drinks! \nTopGolf\n588 N Gulph Rd\, King of Prussia\, Pennsylvania\, US\, 19406 \n\n\n\n\n\nNon-member Price:\n\n$40.00\n\n\n\nMember Price:\n\n$30.00
URL:https://dvhimss.org/events-calendar/topgolf-holiday-networking-event/
LOCATION:PA
CATEGORIES:Past Events
END:VEVENT
END:VCALENDAR