BEGIN:VCALENDAR
VERSION:2.0
PRODID:-//Delaware Valley HIMSS - ECPv6.15.20//NONSGML v1.0//EN
CALSCALE:GREGORIAN
METHOD:PUBLISH
X-WR-CALNAME:Delaware Valley HIMSS
X-ORIGINAL-URL:https://dvhimss.org
X-WR-CALDESC:Events for Delaware Valley HIMSS
REFRESH-INTERVAL;VALUE=DURATION:PT1H
X-Robots-Tag:noindex
X-PUBLISHED-TTL:PT1H
BEGIN:VTIMEZONE
TZID:America/New_York
BEGIN:DAYLIGHT
TZOFFSETFROM:-0500
TZOFFSETTO:-0400
TZNAME:EDT
DTSTART:20220313T070000
END:DAYLIGHT
BEGIN:STANDARD
TZOFFSETFROM:-0400
TZOFFSETTO:-0500
TZNAME:EST
DTSTART:20221106T060000
END:STANDARD
BEGIN:DAYLIGHT
TZOFFSETFROM:-0500
TZOFFSETTO:-0400
TZNAME:EDT
DTSTART:20230312T070000
END:DAYLIGHT
BEGIN:STANDARD
TZOFFSETFROM:-0400
TZOFFSETTO:-0500
TZNAME:EST
DTSTART:20231105T060000
END:STANDARD
BEGIN:DAYLIGHT
TZOFFSETFROM:-0500
TZOFFSETTO:-0400
TZNAME:EDT
DTSTART:20240310T070000
END:DAYLIGHT
BEGIN:STANDARD
TZOFFSETFROM:-0400
TZOFFSETTO:-0500
TZNAME:EST
DTSTART:20241103T060000
END:STANDARD
END:VTIMEZONE
BEGIN:VEVENT
DTSTART;TZID=America/New_York:20231214T170000
DTEND;TZID=America/New_York:20231214T193000
DTSTAMP:20260421T135947
CREATED:20231205T024309Z
LAST-MODIFIED:20240429T133707Z
UID:20932-1702573200-1702582200@dvhimss.org
SUMMARY:Topgolf Holiday Networking Event
DESCRIPTION:DVHIMSS will host a winter/holiday networking event at Topgolf in King of Prussia\, PA. This will be a phenomenal opportunity to join industry peers and colleagues in a great evening of professional networking\, golf\, and plenty of food and drinks! \nTopGolf\n588 N Gulph Rd\, King of Prussia\, Pennsylvania\, US\, 19406 \n\n\n\n\n\nNon-member Price:\n\n$40.00\n\n\n\nMember Price:\n\n$30.00
URL:https://dvhimss.org/events-calendar/topgolf-holiday-networking-event/
LOCATION:PA
CATEGORIES:Past Events
END:VEVENT
END:VCALENDAR